{
 "currentVersion": 11.3,
 "cimVersion": "3.3.0",
 "serviceDescription": "",
 "mapName": "DEM_Hillshade",
 "description": "",
 "copyrightText": "",
 "supportsDynamicLayers": true,
 "layers": [
  {
   "id": 0,
   "name": "VCDEM",
   "parentLayerId": -1,
   "defaultVisibility": true,
   "subLayerIds": null,
   "minScale": 0,
   "maxScale": 0,
   "type": "Raster Layer",
   "supportsDynamicLegends": true
  },
  {
   "id": 1,
   "name": "Hillshade",
   "parentLayerId": -1,
   "defaultVisibility": true,
   "subLayerIds": null,
   "minScale": 0,
   "maxScale": 10000,
   "type": "Raster Layer",
   "supportsDynamicLegends": true
  }
 ],
 "tables": [],
 "spatialReference": {
  "wkid": 102645,
  "latestWkid": 2229,
  "xyTolerance": 0.003280833333333333,
  "zTolerance": 2.0E-4,
  "mTolerance": 2.0E-4,
  "falseX": -117608900,
  "falseY": -91881400,
  "xyUnits": 3048.0060960121928,
  "falseZ": -100000,
  "zUnits": 10000,
  "falseM": -100000,
  "mUnits": 10000
 },
 "singleFusedMapCache": true,
 "tileInfo": {
  "rows": 256,
  "cols": 256,
  "dpi": 96,
  "format": "Mixed",
  "compressionQuality": 75,
  "origin": {
   "x": -1.176084834351523E8,
   "y": 1.0791991146637762E8
  },
  "spatialReference": {
   "wkid": 102645,
   "latestWkid": 2229,
   "xyTolerance": 0.003280833333333333,
   "zTolerance": 2.0E-4,
   "mTolerance": 2.0E-4,
   "falseX": -117608900,
   "falseY": -91881400,
   "xyUnits": 3048.0060960121928,
   "falseZ": -100000,
   "zUnits": 10000,
   "falseM": -100000,
   "mUnits": 10000
  },
  "lods": [
   {
    "level": 0,
    "resolution": 970079.2976704608,
    "scale": 1.1175335859835427E9
   },
   {
    "level": 1,
    "resolution": 485039.6488352304,
    "scale": 5.587667929917713E8
   },
   {
    "level": 2,
    "resolution": 242519.8244176152,
    "scale": 2.7938339649588567E8
   },
   {
    "level": 3,
    "resolution": 121259.9122088076,
    "scale": 1.3969169824794284E8
   },
   {
    "level": 4,
    "resolution": 60629.9561044038,
    "scale": 6.984584912397142E7
   },
   {
    "level": 5,
    "resolution": 30314.9780522019,
    "scale": 3.492292456198571E7
   },
   {
    "level": 6,
    "resolution": 15157.48902610095,
    "scale": 1.7461462280992854E7
   },
   {
    "level": 7,
    "resolution": 7578.744513050475,
    "scale": 8730731.140496427
   },
   {
    "level": 8,
    "resolution": 3789.3722565252374,
    "scale": 4365365.570248214
   },
   {
    "level": 9,
    "resolution": 1894.6861282626187,
    "scale": 2182682.785124107
   },
   {
    "level": 10,
    "resolution": 947.3430641313093,
    "scale": 1091341.3925620534
   },
   {
    "level": 11,
    "resolution": 473.6715320656547,
    "scale": 545670.6962810267
   },
   {
    "level": 12,
    "resolution": 236.83576603282734,
    "scale": 272835.34814051335
   },
   {
    "level": 13,
    "resolution": 118.41788301641367,
    "scale": 136417.67407025667
   },
   {
    "level": 14,
    "resolution": 59.208941508206834,
    "scale": 68208.83703512834
   },
   {
    "level": 15,
    "resolution": 29.604470754103417,
    "scale": 34104.41851756417
   },
   {
    "level": 16,
    "resolution": 14.802235377051709,
    "scale": 17052.209258782084
   },
   {
    "level": 17,
    "resolution": 7.401117688525854,
    "scale": 8526.104629391042
   },
   {
    "level": 18,
    "resolution": 3.700558844262927,
    "scale": 4263.052314695521
   },
   {
    "level": 19,
    "resolution": 1.8502794221314636,
    "scale": 2131.5261573477605
   },
   {
    "level": 20,
    "resolution": 0.9251397110657318,
    "scale": 1065.7630786738803
   },
   {
    "level": 21,
    "resolution": 0.4625698555328659,
    "scale": 532.8815393369401
   },
   {
    "level": 22,
    "resolution": 0.23128492776643295,
    "scale": 266.44076966847007
   },
   {
    "level": 23,
    "resolution": 0.11564246388321647,
    "scale": 133.22038483423503
   }
  ]
 },
 "storageInfo": {
  "storageFormat": "esriMapCacheStorageModeCompactV2",
  "packetSize": 128
 },
 "initialExtent": {
  "xmin": 6255051.512806151,
  "ymin": 1995715.4814605215,
  "xmax": 6261821.233490413,
  "ymax": 2001511.3948366488,
  "spatialReference": {
   "wkid": 102645,
   "latestWkid": 2229,
   "xyTolerance": 0.003280833333333333,
   "zTolerance": 2.0E-4,
   "mTolerance": 2.0E-4,
   "falseX": -117608900,
   "falseY": -91881400,
   "xyUnits": 3048.0060960121928,
   "falseZ": -100000,
   "zUnits": 10000,
   "falseM": -100000,
   "mUnits": 10000
  }
 },
 "fullExtent": {
  "xmin": 6092689.08629518,
  "ymin": 1782533.64669238,
  "xmax": 6397806.58319386,
  "ymax": 2184206.06761154,
  "spatialReference": {
   "wkid": 102645,
   "latestWkid": 2229,
   "xyTolerance": 0.003280833333333333,
   "zTolerance": 2.0E-4,
   "mTolerance": 2.0E-4,
   "falseX": -117608900,
   "falseY": -91881400,
   "xyUnits": 3048.0060960121928,
   "falseZ": -100000,
   "zUnits": 10000,
   "falseM": -100000,
   "mUnits": 10000
  }
 },
 "datesInUnknownTimezone": false,
 "minScale": 1.1175335859835427E9,
 "maxScale": 266.44076966847007,
 "units": "esriFeet",
 "supportedImageFormatTypes": "PNG32,PNG24,PNG,JPG,DIB,TIFF,EMF,PS,PDF,GIF,SVG,SVGZ,BMP",
 "documentInfo": {
  "Title": "C:\\Users\\136704\\AppData\\Local\\Temp\\ArcGISProTemp12788\\Untitled\\Untitled.aprx",
  "Author": "",
  "Comments": "",
  "Subject": "",
  "Category": "",
  "Version": "3.3.0",
  "AntialiasingMode": "Fast",
  "TextAntialiasingMode": "Force",
  "Keywords": ""
 },
 "supportsQueryDomains": true,
 "capabilities": "Map",
 "supportedQueryFormats": "JSON, geoJSON, PBF",
 "exportTilesAllowed": true,
 "maxExportTilesCount": 100000,
 "referenceScale": 0.0,
 "datumTransformations": [
  {
   "geoTransforms": [
    {
     "wkid": 108190,
     "latestWkid": 108190,
     "transformForward": true,
     "name": "WGS_1984_(ITRF00)_To_NAD_1983"
    }
   ]
  }
 ],
 "supportsDatumTransformation": true,
 "floorAwareMapProperties": {
  "defaultFloorFilterSettings": {
   "isEnabled": false
  }
 },
 "archivingInfo": {
  "supportsHistoricMoment": false
 },
 "supportsClipping": true,
 "supportsSpatialFilter": true,
 "supportsTimeRelation": true,
 "supportsQueryDataElements": true,
 "mapUnits": {
  "uwkid": 9003
 },
 "maxRecordCount": 2000,
 "maxImageHeight": 4096,
 "maxImageWidth": 4096,
 "supportedExtensions": "",
 "resampling": false
}
