View In:
ArcGIS JavaScript
ArcGIS Online Map Viewer
ArcGIS Earth
ArcGIS Pro
Service Description:
Map Name: DEM_Hillshade
Legend
All Layers and Tables
Dynamic Legend
Dynamic All Layers
Layers:
Description:
Copyright Text:
Spatial Reference:
102645
(2229)
LatestVCSWkid(0)
Single Fused Map Cache: true
Tile Info:
- Height: 256.0
- Width: 256.0
- DPI: 96.0
-
Levels of Detail: 24
-
Level ID: 0
[ Start Tile, End Tile ]
- Resolution: 970079.2976704608
- Scale: 1.1175335859835427E9
-
Level ID: 1
[ Start Tile, End Tile ]
- Resolution: 485039.6488352304
- Scale: 5.587667929917713E8
-
Level ID: 2
[ Start Tile, End Tile ]
- Resolution: 242519.8244176152
- Scale: 2.7938339649588567E8
-
Level ID: 3
[ Start Tile, End Tile ]
- Resolution: 121259.9122088076
- Scale: 1.3969169824794284E8
-
Level ID: 4
[ Start Tile, End Tile ]
- Resolution: 60629.9561044038
- Scale: 6.984584912397142E7
-
Level ID: 5
[ Start Tile, End Tile ]
- Resolution: 30314.9780522019
- Scale: 3.492292456198571E7
-
Level ID: 6
[ Start Tile, End Tile ]
- Resolution: 15157.48902610095
- Scale: 1.7461462280992854E7
-
Level ID: 7
[ Start Tile, End Tile ]
- Resolution: 7578.744513050475
- Scale: 8730731.140496427
-
Level ID: 8
[ Start Tile, End Tile ]
- Resolution: 3789.3722565252374
- Scale: 4365365.570248214
-
Level ID: 9
[ Start Tile, End Tile ]
- Resolution: 1894.6861282626187
- Scale: 2182682.785124107
-
Level ID: 10
[ Start Tile, End Tile ]
- Resolution: 947.3430641313093
- Scale: 1091341.3925620534
-
Level ID: 11
[ Start Tile, End Tile ]
- Resolution: 473.6715320656547
- Scale: 545670.6962810267
-
Level ID: 12
[ Start Tile, End Tile ]
- Resolution: 236.83576603282734
- Scale: 272835.34814051335
-
Level ID: 13
[ Start Tile, End Tile ]
- Resolution: 118.41788301641367
- Scale: 136417.67407025667
-
Level ID: 14
[ Start Tile, End Tile ]
- Resolution: 59.208941508206834
- Scale: 68208.83703512834
-
Level ID: 15
[ Start Tile, End Tile ]
- Resolution: 29.604470754103417
- Scale: 34104.41851756417
-
Level ID: 16
[ Start Tile, End Tile ]
- Resolution: 14.802235377051709
- Scale: 17052.209258782084
-
Level ID: 17
[ Start Tile, End Tile ]
- Resolution: 7.401117688525854
- Scale: 8526.104629391042
-
Level ID: 18
[ Start Tile, End Tile ]
- Resolution: 3.700558844262927
- Scale: 4263.052314695521
-
Level ID: 19
[ Start Tile, End Tile ]
- Resolution: 1.8502794221314636
- Scale: 2131.5261573477605
-
Level ID: 20
[ Start Tile, End Tile ]
- Resolution: 0.9251397110657318
- Scale: 1065.7630786738803
-
Level ID: 21
[ Start Tile, End Tile ]
- Resolution: 0.4625698555328659
- Scale: 532.8815393369401
-
Level ID: 22
[ Start Tile, End Tile ]
- Resolution: 0.23128492776643295
- Scale: 266.44076966847007
-
Level ID: 23
[ Start Tile, End Tile ]
- Resolution: 0.11564246388321647
- Scale: 133.22038483423503
- Format: Mixed
- Compression Quality: 75.0
- Origin: X: -1.176084834351523E8
Y: 1.0791991146637762E8
- Spatial Reference: 102645
(2229)
LatestVCSWkid(0)
Storage Info:
- Storage Format: esriMapCacheStorageModeCompactV2
- Packet Size: 128
Initial Extent:
XMin: 6255051.512806151
YMin: 1995715.4814605215
XMax: 6261821.233490413
YMax: 2001511.3948366488
Spatial Reference: 102645
(2229)
LatestVCSWkid(0)
Full Extent:
XMin: 6092689.08629518
YMin: 1782533.64669238
XMax: 6397806.58319386
YMax: 2184206.06761154
Spatial Reference: 102645
(2229)
LatestVCSWkid(0)
Units: esriFeet
Supported Image Format Types: PNG32,PNG24,PNG,JPG,DIB,TIFF,EMF,PS,PDF,GIF,SVG,SVGZ,BMP
Document Info:
Title: C:\Users\136704\AppData\Local\Temp\ArcGISProTemp12788\Untitled\Untitled.aprx
Author:
Comments:
Subject:
Category:
Keywords:
AntialiasingMode: Fast
TextAntialiasingMode: Force
Supports Dynamic Layers: true
Resampling: false
MaxRecordCount: 2000
MaxImageHeight: 4096
MaxImageWidth: 4096
Supported Query Formats: JSON, geoJSON, PBF
Supports Query Data Elements: true
Min Scale: 1.1175335859835427E9
Max Scale: 266.44076966847007
Supports Datum Transformation: true
Child Resources:
Info
Dynamic Layer
Supported Operations:
Export Map
QueryLegends
EstimateExportTilesSize
ExportTiles
Return Updates